BEGIN:VCALENDAR
VERSION:2.0
PRODID:-//Escambia County Council of PTAs/PTSAs - ECPv6.15.20//NONSGML v1.0//EN
CALSCALE:GREGORIAN
METHOD:PUBLISH
X-ORIGINAL-URL:https://escambiapta.org
X-WR-CALDESC:Events for Escambia County Council of PTAs/PTSAs
REFRESH-INTERVAL;VALUE=DURATION:PT1H
X-Robots-Tag:noindex
X-PUBLISHED-TTL:PT1H
BEGIN:VTIMEZONE
TZID:America/New_York
BEGIN:DAYLIGHT
TZOFFSETFROM:-0500
TZOFFSETTO:-0400
TZNAME:EDT
DTSTART:20230312T070000
END:DAYLIGHT
BEGIN:STANDARD
TZOFFSETFROM:-0400
TZOFFSETTO:-0500
TZNAME:EST
DTSTART:20231105T060000
END:STANDARD
BEGIN:DAYLIGHT
TZOFFSETFROM:-0500
TZOFFSETTO:-0400
TZNAME:EDT
DTSTART:20240310T070000
END:DAYLIGHT
BEGIN:STANDARD
TZOFFSETFROM:-0400
TZOFFSETTO:-0500
TZNAME:EST
DTSTART:20241103T060000
END:STANDARD
BEGIN:DAYLIGHT
TZOFFSETFROM:-0500
TZOFFSETTO:-0400
TZNAME:EDT
DTSTART:20250309T070000
END:DAYLIGHT
BEGIN:STANDARD
TZOFFSETFROM:-0400
TZOFFSETTO:-0500
TZNAME:EST
DTSTART:20251102T060000
END:STANDARD
END:VTIMEZONE
BEGIN:VTIMEZONE
TZID:America/Chicago
BEGIN:DAYLIGHT
TZOFFSETFROM:-0600
TZOFFSETTO:-0500
TZNAME:CDT
DTSTART:20230312T080000
END:DAYLIGHT
BEGIN:STANDARD
TZOFFSETFROM:-0500
TZOFFSETTO:-0600
TZNAME:CST
DTSTART:20231105T070000
END:STANDARD
BEGIN:DAYLIGHT
TZOFFSETFROM:-0600
TZOFFSETTO:-0500
TZNAME:CDT
DTSTART:20240310T080000
END:DAYLIGHT
BEGIN:STANDARD
TZOFFSETFROM:-0500
TZOFFSETTO:-0600
TZNAME:CST
DTSTART:20241103T070000
END:STANDARD
BEGIN:DAYLIGHT
TZOFFSETFROM:-0600
TZOFFSETTO:-0500
TZNAME:CDT
DTSTART:20250309T080000
END:DAYLIGHT
BEGIN:STANDARD
TZOFFSETFROM:-0500
TZOFFSETTO:-0600
TZNAME:CST
DTSTART:20251102T070000
END:STANDARD
END:VTIMEZONE
BEGIN:VEVENT
DTSTART;TZID=America/New_York:20240619T090000
DTEND;TZID=America/New_York:20240619T120000
DTSTAMP:20260423T135751
CREATED:20240613T110611Z
LAST-MODIFIED:20240613T110611Z
UID:1143-1718787600-1718798400@escambiapta.org
SUMMARY:Connection Cafe'
DESCRIPTION:Meet at PJ’x Coffee  from 9-Noon – drop in anytime for a coffee and conversation
URL:https://escambiapta.org/event/connection-cafe/
LOCATION:PJ’s Coffee\, 85 W Airport\, Pensacola\, FL\, United States
END:VEVENT
BEGIN:VEVENT
DTSTART;TZID=America/New_York:20240610T190000
DTEND;TZID=America/New_York:20240610T200000
DTSTAMP:20260423T135751
CREATED:20240606T142302Z
LAST-MODIFIED:20240606T142302Z
UID:1139-1718046000-1718049600@escambiapta.org
SUMMARY:ECCPTA Special General Meeting (via Zoom)
DESCRIPTION:Check your email for the Zoom link registration.
URL:https://escambiapta.org/event/eccpta-special-general-meeting-via-zoom/
LOCATION:FL
END:VEVENT
BEGIN:VEVENT
DTSTART;TZID=America/Chicago:20240216T110000
DTEND;TZID=America/Chicago:20240216T130000
DTSTAMP:20260423T135751
CREATED:20240119T024028Z
LAST-MODIFIED:20240119T112543Z
UID:1105-1708081200-1708088400@escambiapta.org
SUMMARY:2024 ECCPTA Founders Day
DESCRIPTION:
URL:https://escambiapta.org/event/2024-eccpta-founders-day/
LOCATION:Hilton Garden Inn\, 8 S Ninth Ave
END:VEVENT
BEGIN:VEVENT
DTSTART;TZID=America/Chicago:20240125T180000
DTEND;TZID=America/Chicago:20240125T193000
DTSTAMP:20260423T135751
CREATED:20240119T023256Z
LAST-MODIFIED:20240119T112605Z
UID:1101-1706205600-1706211000@escambiapta.org
SUMMARY:2024 ECCPTA Reflections Ceremony
DESCRIPTION:
URL:https://escambiapta.org/event/2024-eccpta-reflections-ceremony/
LOCATION:Washington High Auditorium
END:VEVENT
END:VCALENDAR